BEGIN:VCALENDAR
VERSION:2.0
PRODID:-//Printemps Documentaire 2026 - ECPv6.15.20//NONSGML v1.0//EN
CALSCALE:GREGORIAN
METHOD:PUBLISH
X-ORIGINAL-URL:https://www.printempsdocumentaire.com
X-WR-CALDESC:Évènements pour Printemps Documentaire 2026
REFRESH-INTERVAL;VALUE=DURATION:PT1H
X-Robots-Tag:noindex
X-PUBLISHED-TTL:PT1H
BEGIN:VTIMEZONE
TZID:Europe/Paris
BEGIN:DAYLIGHT
TZOFFSETFROM:+0100
TZOFFSETTO:+0200
TZNAME:CEST
DTSTART:20250330T010000
END:DAYLIGHT
BEGIN:STANDARD
TZOFFSETFROM:+0200
TZOFFSETTO:+0100
TZNAME:CET
DTSTART:20251026T010000
END:STANDARD
BEGIN:DAYLIGHT
TZOFFSETFROM:+0100
TZOFFSETTO:+0200
TZNAME:CEST
DTSTART:20260329T010000
END:DAYLIGHT
BEGIN:STANDARD
TZOFFSETFROM:+0200
TZOFFSETTO:+0100
TZNAME:CET
DTSTART:20261025T010000
END:STANDARD
BEGIN:DAYLIGHT
TZOFFSETFROM:+0100
TZOFFSETTO:+0200
TZNAME:CEST
DTSTART:20270328T010000
END:DAYLIGHT
BEGIN:STANDARD
TZOFFSETFROM:+0200
TZOFFSETTO:+0100
TZNAME:CET
DTSTART:20271031T010000
END:STANDARD
END:VTIMEZONE
BEGIN:VEVENT
DTSTART;TZID=Europe/Paris:20260320T184500
DTEND;TZID=Europe/Paris:20260320T203000
DTSTAMP:20260421T123400
CREATED:20260317T095709Z
LAST-MODIFIED:20260317T095709Z
UID:1680-1774032300-1774038600@www.printempsdocumentaire.com
SUMMARY:Histoires de la bonne vallée - Cinéma l'Arlequin à Nyons
DESCRIPTION:
URL:https://www.printempsdocumentaire.com/projection/histoires-de-la-bonne-vallee-cinema-larlequin-a-nyons-2/
LOCATION:Cinéma l’Arlequin\, 28 Place de la Libération\, Nyons\, 26110\, France
CATEGORIES:Histoires de la bonne vallée,Nyons / Cinéma l’Arlequin
END:VEVENT
BEGIN:VEVENT
DTSTART;TZID=Europe/Paris:20260320T184500
DTEND;TZID=Europe/Paris:20260320T203000
DTSTAMP:20260421T123400
CREATED:20260317T100217Z
LAST-MODIFIED:20260317T100217Z
UID:1692-1774032300-1774038600@www.printempsdocumentaire.com
SUMMARY:Orwell 2+2=5 - Cinéma le Florian à Vaison-la-Romaine
DESCRIPTION:
URL:https://www.printempsdocumentaire.com/projection/orwell-225-cinema-le-florian-a-vaison-la-romaine-2/
LOCATION:Cinéma le Florian\, Allée Saint-Quentin\, Vaison-la-Romaine\, 84110\, France
CATEGORIES:Orwell 2+2=5,Vaison-la-Romaine / Cinéma le Florian
END:VEVENT
BEGIN:VEVENT
DTSTART;TZID=Europe/Paris:20260320T200000
DTEND;TZID=Europe/Paris:20260320T220000
DTSTAMP:20260421T123400
CREATED:20260218T095923Z
LAST-MODIFIED:20260223T175731Z
UID:1347-1774036800-1774044000@www.printempsdocumentaire.com
SUMMARY:Orwell 2+2=5 - Cinéma le Delta à Saint-Flour
DESCRIPTION:En présence de Michel Amarger\, journaliste et critique cinéma
URL:https://www.printempsdocumentaire.com/projection/orwell-225-cinema-de-saint-flour/
LOCATION:Cinéma le Delta\, 5 place du palais\, Saint-Flour\, 15100\, France
CATEGORIES:Orwell 2+2=5,Saint-Flour / Cinéma le Delta
END:VEVENT
BEGIN:VEVENT
DTSTART;TZID=Europe/Paris:20260320T200000
DTEND;TZID=Europe/Paris:20260320T220000
DTSTAMP:20260421T123400
CREATED:20260223T084049Z
LAST-MODIFIED:20260305T084004Z
UID:1278-1774036800-1774044000@www.printempsdocumentaire.com
SUMMARY:Reporters - Cinéma le Regain au Teil
DESCRIPTION:Suivi d’une intervention de Mathias Sabourdin\, (en partenariat avec l’ADRC).
URL:https://www.printempsdocumentaire.com/projection/reporters-cinema-de-teil/
LOCATION:Cinéma Regain\, 3 Chemin du Château\, Le Teil\, 07400\, France
CATEGORIES:Le Teil / Cinéma Regain,Reporters
END:VEVENT
BEGIN:VEVENT
DTSTART;TZID=Europe/Paris:20260320T200000
DTEND;TZID=Europe/Paris:20260320T220000
DTSTAMP:20260421T123400
CREATED:20260310T122506Z
LAST-MODIFIED:20260310T122506Z
UID:1548-1774036800-1774044000@www.printempsdocumentaire.com
SUMMARY:Nous l'orchestre - Cinéma le Chardon à Gannat
DESCRIPTION:Avant-première + échange sur la musique au cinéma après la séance.
URL:https://www.printempsdocumentaire.com/projection/nous-lorchestre-cinema-le-chardon-a-gannat/
LOCATION:Cinéma le Chardon\, 26 Place Hennequin\, Gannat\, Allier\, 03800\, France
CATEGORIES:Gannat / Cinéma le Chardon,Nous l’orchestre
END:VEVENT
BEGIN:VEVENT
DTSTART;TZID=Europe/Paris:20260320T203000
DTEND;TZID=Europe/Paris:20260320T220000
DTSTAMP:20260421T123400
CREATED:20260225T090653Z
LAST-MODIFIED:20260225T090653Z
UID:1446-1774038600-1774044000@www.printempsdocumentaire.com
SUMMARY:Soulèvements - Cinéma le Reg'Art à Buis les Baronnies
DESCRIPTION:
URL:https://www.printempsdocumentaire.com/projection/soulevements-cinema-le-regart-a-buis-les-baronnies-2/
LOCATION:Cinéma Reg’Art\, Place du 19 mars 1962\, Buis-les-Baronnies\, 26170\, France
CATEGORIES:Buis-les-Baronnies / Cinéma Reg’Art,Soulèvements
END:VEVENT
BEGIN:VEVENT
DTSTART;TZID=Europe/Paris:20260320T203000
DTEND;TZID=Europe/Paris:20260320T220000
DTSTAMP:20260421T123400
CREATED:20260309T085355Z
LAST-MODIFIED:20260316T101259Z
UID:1554-1774038600-1774044000@www.printempsdocumentaire.com
SUMMARY:Le Retour du projectionniste - Cinéma le Monaco à Thiers
DESCRIPTION:Accompagné d’un quizz sur les salles de cinéma.
URL:https://www.printempsdocumentaire.com/projection/le-retour-du-projectionniste-cinema-le-monaco-a-thiers/
LOCATION:Cinéma le Monaco\, 17 rue de la Conchette\, Thiers\, 63300\, France
CATEGORIES:Le Retour du projectionniste,Thiers / Cinéma le Monaco
END:VEVENT
BEGIN:VEVENT
DTSTART;TZID=Europe/Paris:20260320T203000
DTEND;TZID=Europe/Paris:20260320T220000
DTSTAMP:20260421T123400
CREATED:20260309T094547Z
LAST-MODIFIED:20260309T094547Z
UID:1250-1774038600-1774044000@www.printempsdocumentaire.com
SUMMARY:Le Retour du projectionniste - Cinéma l'Eden à Crest
DESCRIPTION:
URL:https://www.printempsdocumentaire.com/projection/le-retour-du-projectionniste-cinema-leden-a-crest/
LOCATION:Cinéma Eden\, 2 Quai Bérangier de la Blache\, Crest\, 26400\, France
CATEGORIES:Crest / Cinéma Eden,Le Retour du projectionniste
END:VEVENT
BEGIN:VEVENT
DTSTART;TZID=Europe/Paris:20260320T203000
DTEND;TZID=Europe/Paris:20260320T223000
DTSTAMP:20260421T123400
CREATED:20260309T091205Z
LAST-MODIFIED:20260309T091205Z
UID:1536-1774038600-1774045800@www.printempsdocumentaire.com
SUMMARY:Orwell 2+2=5 - Cinéma Rex à Courpière
DESCRIPTION:
URL:https://www.printempsdocumentaire.com/projection/orwell-225-cinema-rex-a-courpiere/
LOCATION:Cinéma Rex\, 50 Bd Vercingétorix\, Courpière\, 63120\, France
CATEGORIES:Coupière/Cinéma Rex,Orwell 2+2=5
END:VEVENT
BEGIN:VEVENT
DTSTART;TZID=Europe/Paris:20260320T203000
DTEND;TZID=Europe/Paris:20260320T223000
DTSTAMP:20260421T123400
CREATED:20260316T130959Z
LAST-MODIFIED:20260316T130959Z
UID:1638-1774038600-1774045800@www.printempsdocumentaire.com
SUMMARY:Orwell 2+2=5 - Ciné Galaure à Saint-Vallier
DESCRIPTION:
URL:https://www.printempsdocumentaire.com/projection/orwell-225-cine-galaure-a-saint-vallier/
LOCATION:Ciné Galaure\, 2 rue des malles\, Saint Vallier\, 26240\, France
CATEGORIES:Orwell 2+2=5,Saint-Vallier / Ciné Galaure
END:VEVENT
END:VCALENDAR